BEGIN:VCALENDAR
VERSION:2.0
PRODID:icalendar-ruby
CALSCALE:GREGORIAN
METHOD:PUBLISH
BEGIN:VEVENT
DTSTAMP:20260420T021039Z
UID:a2c3f498-bad1-4515-9d9b-2b0f4c34febd
DTSTART:20250222T060000
DTEND:20250223T180000
DESCRIPTION:<p><span>The 18th annual XTERRA South Africa off-road triathlon
  is an epic off-road experience featuring stunning views of the Elgin Vall
 ey. Participate in the Sprint or Full Distance Triathlon (both distances q
 ualify you for the XTERRA World Champs as well as the South African Cross 
 Tri Champs) or the Trail Runs. </span></p><p><span>With Full and Sprint D
 istance options on the cards for both individuals and teams of 3\, there i
 s no reason why you should not be there. Swim\, Mountain Bike or Trail Run
  / Walk\, there is something for everyone. </span></p><p><br></p><p><span
 >Additional activities on the day include Music\, an Expo area for Partner
 s and Brands\, Food Trucks\, Fully stocked Beach Bar with DJ\, Ice-cream\,
  Fun and safe kids play area. </span></p><p><span>Entries are limited so 
 sign up early to avoid disappointment.</span></p><p><br></p>
LOCATION:Worcester St\, Grabouw\, Western Cape\, 7180
SUMMARY:XTERRA Grabouw 2025
URL;VALUE=URI:https://xterra.howler.co.za/grabouw2025
END:VEVENT
END:VCALENDAR
