BEGIN:VCALENDAR
VERSION:2.0
PRODID:icalendar-ruby
CALSCALE:GREGORIAN
METHOD:PUBLISH
BEGIN:VEVENT
DTSTAMP:20260420T110944Z
UID:5d4657cc-efbb-4cca-ada4-250b5b4ced1a
DTSTART:20240217T060000
DTEND:20240217T140000
DESCRIPTION:<h3><span style="color: rgb(34\, 34\, 34)\;">ONLINE ENTRIES ARE
  CLOSED AND ENTRIES ARE STILL AVAILABLE ON THE DAY</span></h3><p><br></p><
 p><span style="color: rgb(0\, 0\, 0)\;">The Full Distance Triathlon race a
 t the Elgin Grabouw Sports Club will see athletes from across the world co
 mpeting for a slots in the 2024 XTERRA World Champs in Trentino\, Italy la
 ter in the year. Additionally South African athletes who hold a valid Tria
 thlon South Africa (TSA) License will also be competing against each other
  in the South African Cross Triathlon Championship.</span></p>
LOCATION:Worcester St\, Grabouw\, Western Cape\, 7180
SUMMARY:XTERRA Full Triathlon
URL;VALUE=URI:https://xterra.howler.co.za/full
END:VEVENT
END:VCALENDAR
