BEGIN:VCALENDAR
VERSION:2.0
PRODID:icalendar-ruby
CALSCALE:GREGORIAN
METHOD:PUBLISH
BEGIN:VEVENT
DTSTAMP:20260423T075751Z
UID:e6143ec0-006a-4f96-910b-4972e0eea6aa
DTSTART:20250413T060000
DTEND:20250413T180000
DESCRIPTION:<p>XTERRA South Africa takes us to Cradle Moon in the Cradle
  of Humankind\, where an exhilarating blend of rugged trails and captivati
 ng history await you. Nestled amidst UNESCO World Heritage Sites\, this r
 egion offers an adrenaline rush amidst stunning landscapes and ancient w
 onders. </p><p>This central and conveniently located destination is wel
 l-known among the sporting community\, and we are excited about bringing t
 he XTERRA Global event to The Cradle for the first time!</p><p>Exciting n
 ews from Conrad Stoltz and XTERRA SA is that the benchmark of cross-triath
 lon (Xtri) world wide is coming back to Gauteng in October this year.</p><
 p>So make sure you book Sunday the 13th of October at the beautiful Cradle
  Moon Lakeside Game Lodge\, in the Cradle of Humankind\, for a day of adve
 nture and fun for the whole family.</p><p>With Full and Sprint Distance op
 tions on the cards for both individuals and teams of 3\, there is no reaso
 n why you should not be there. Swim\, Mountain Bike or Trail Run / Walk\, 
 there is something for everyone. </p><p>Additional activities on the day 
 include Music\, an Expo area for Partners and Brands\, Food Trucks\, Fully
  stocked Beach Bar with DJ\, Ice-cream\, Fun and safe kids play area. </p
 ><p>Entries are limited so sign up early to avoid disappointment.</p><p>Al
 l info and entries on:</p><p><a href="https://www.xterraplanet.com/event/x
 terra-cradle-moon" target="_blank">https://www.xterraplanet.com/event/xter
 ra-cradle-moon</a></p><p><br></p><p><br></p>
LOCATION:Plot 59 Beyers Naude Drive\, Muldersdrift\, 2024
SUMMARY:XTERRA Cradle Moon
URL;VALUE=URI:https://xterra.howler.co.za/XterraCradleMoon2024
END:VEVENT
END:VCALENDAR
